BEGIN:VCALENDAR
VERSION:2.0
PRODID:-//ExpressionEngine Easy iCalendar plugin//NONSGML v2.0.1//EN
X-WR-TIMEZONE:America/New_York
X-WR-CALNAME:Upcoming Auctions
BEGIN:VEVENT
UID:151923
DTSTAMP:20251227T130000
DTSTART:20251227T130000
DTEND:20260104T200000
SUMMARY:26-003_World Silver and Gold Coin Collection Auction
LOCATION:315 Eastview Road\, PELZER\, SC 29669\, US
DESCRIPTION:We are pleased to present an exceptional estate collection o
 f world silver coins\, gold coins\, and rare U.S. currency spa
 nning over a century of international numismatic history. Th
 is auction features premium coins from Europe\, Latin America
 \, Asia\, and the Pacific\, many in superior grades with attrac
 tive toning.
URL:https://www.mpa-sc.com/auctions/detail/bw151923
SEQUENCE:1
END:VEVENT
END:VCALENDAR