BEGIN:VCALENDAR
VERSION:2.0
PRODID:-//ExpressionEngine Easy iCalendar plugin//NONSGML v2.0.0//EN
X-WR-TIMEZONE:America/New_York
X-WR-CALNAME:Upcoming Auctions
BEGIN:VEVENT
UID:159981
DTSTAMP:20260421T090000
DTSTART:20260421T090000
DTEND:20260428T200000
SUMMARY:26-039 Easley Gold and Silver Coin Auction #1
LOCATION:315 Eastview Road\, Pelzer\, SC 29669\, US
DESCRIPTION:This auction features a strong U.S. Mint coin offering highl
 ighted by two standout gold lots\, including a 1991 American 
 Eagle Gold Proof 4-Coin Set and a 1987 Constitution $5 Gold 
 Commemorative Proof. Bidders will also find a broad selectio
 n of proof and silver issues\, Eisenhower dollars\, commemorat
 ives\, and original boxed mint sets.
URL:https://www.mpa-sc.com/auctions/detail/bw159981
SEQUENCE:1
END:VEVENT
END:VCALENDAR